BEGIN:VCALENDAR
VERSION:2.0
PRODID:-//eventon.com NONSGML v1.0//EN
CALSCALE:GREGORIAN
METHOD:PUBLISH
BEGIN:VEVENT
UID:69ecf16fcdcee
DTSTAMP:20260425T165303Z
DTSTART:20230330T140000Z
DTEND:20230330T153000Z
LOCATION:Online
SUMMARY:Coaching Certification (APPC.17)
DESCRIPTION:The Applied Positive Psychology Coaching (APPC) is an add-on pr
 ogram offered ONLY to CAPP students and graduates who are interested in le
 arning and deepening their coaching skills. It enables them to offer coachi
 ng services professionally or incorporate coaching into what they already d
 o. APPC is a comprehensive 175-hour program that combines[..]\nhttps://thef
 lourishingcenter.com/events/coaching-certification-appc-17/
URL:https://theflourishingcenter.com/events/coaching-certification-appc-17/
END:VEVENT
END:VCALENDAR