BEGIN:VCALENDAR
VERSION:2.0
PRODID:-//eventon.com NONSGML v1.0//EN
CALSCALE:GREGORIAN
METHOD:PUBLISH
BEGIN:VEVENT
UID:69ed232bbf8a6
DTSTAMP:20260425T202515Z
DTSTART:20260420T233000Z
DTEND:20260421T010000Z
LOCATION:
SUMMARY:April Book Club: Stolen Focus
DESCRIPTION:Inspired by Positive Psychology titles but no time to read? Joi
 n CAPPster Andrea Seydel each month for an unconventional approach to readi
 ng a book as a community. And take a deep dive into a Positive Psychology b
 ook of our community&#8217;s choice! For April our community picked &#8216;
 Stolen Focus&#8217; by Johann[..]\nhttps://theflourishingcenter.com/events/
 april-book-club-stolen-focus/
URL:https://theflourishingcenter.com/events/april-book-club-stolen-focus/
END:VEVENT
END:VCALENDAR