BEGIN:VCALENDAR
VERSION:2.0
PRODID:-//eventon.com NONSGML v1.0//EN
CALSCALE:GREGORIAN
METHOD:PUBLISH
BEGIN:VEVENT
UID:69ed23042515a
DTSTAMP:20260425T202436Z
DTSTART:20260518T233000Z
DTEND:20260519T010000Z
LOCATION:
SUMMARY:May Book Club: About Grief: Insights\,  Setbacks\,  Grace Notes\,  Taboos
DESCRIPTION:Inspired by Positive Psychology titles but no time to read? Joi
 n CAPPster Andrea Seydel each month for an unconventional approach to readi
 ng a book as a community. And take a deep dive into a Positive Psychology b
 ook of our community&#8217;s choice! For May our community picked &#8216;Ab
 out Grief: Insights\,  Setbacks\, [..]\nhttps://theflourishingcenter.com/ev
 ents/may-book-club-about-grief-insights-setbacks-grace-notes-taboos/
URL:https://theflourishingcenter.com/events/may-book-club-about-grief-insights-setbacks-grace-notes-taboos/
END:VEVENT
END:VCALENDAR