BEGIN:VCALENDAR
VERSION:2.0
PRODID:-//eventon.com NONSGML v1.0//EN
CALSCALE:GREGORIAN
METHOD:PUBLISH
BEGIN:VEVENT
UID:69ed232e2563b
DTSTAMP:20260425T202518Z
DTSTART:20260615T233000Z
DTEND:20260616T010000Z
LOCATION:
SUMMARY:June Book Club: Attuned Exercise
DESCRIPTION:Inspired by Positive Psychology titles but no time to read? Joi
 n CAPPster Andrea Seydel each month for an unconventional approach to readi
 ng a book as a community. And take a deep dive into a Positive Psychology b
 ook of our community&#8217;s choice! For June our community picked &#8216;A
 ttuned Exercise&#8217; by CAPPster[..]\nhttps://theflourishingcenter.com/ev
 ents/june-book-club-attuned-exercise/
URL:https://theflourishingcenter.com/events/june-book-club-attuned-exercise/
END:VEVENT
END:VCALENDAR