BEGIN:VCALENDAR
VERSION:2.0
PRODID:-//eventon.com NONSGML v1.0//EN
CALSCALE:GREGORIAN
METHOD:PUBLISH
BEGIN:VEVENT
UID:69ed232d23565
DTSTAMP:20260425T202517Z
DTSTART:20260410T160000Z
DTEND:20260410T170000Z
LOCATION:
SUMMARY:The Longest Road: From Generational Trauma to Resilience & Choice - FPF with Sasha Perelman
DESCRIPTION:Hi CAPPsters\,  join me to welcome Sasha Perelman to Final Proj
 ect Friday. For her project she wrote a book The Longest Road\,  which expl
 ores themes of generational trauma\,  inherited resilience\,  and the consc
 ious act of choosing what we carry forward from our lineage. She&#8217;s al
 so developing a companion workbook. Join[..]\nhttps://theflourishingcenter.
 com/events/the-longest-road-from-generational-trauma-to-resilience-choice-f
 pf-with-sasha-perelman/
URL:https://theflourishingcenter.com/events/the-longest-road-from-generational-trauma-to-resilience-choice-fpf-with-sasha-perelman/
END:VEVENT
END:VCALENDAR