BEGIN:VCALENDAR
VERSION:2.0
PRODID:-//eventon.com NONSGML v1.0//EN
CALSCALE:GREGORIAN
METHOD:PUBLISH
BEGIN:VEVENT
UID:69ed222020b46
DTSTAMP:20260425T202048Z
DTSTART:20260501T160000Z
DTEND:20260501T170000Z
LOCATION:
SUMMARY:Culture\,  Connection\,  and Change: Leading with Purpose in Times of Transformation - FPF with Nené Gomez
DESCRIPTION:Hi CAPPsters! Join me to welcome Nene Gomez to Final Project Fr
 iday. For her project\,  she created a positive leadership program that bri
 ngs together insights from positive psychology\,  the Positive Leadership m
 odule\,  and Kim Cameron’s research. About Maria Ines  Gomez (CAPP.112) 
 Super Power My superpower is kindness and my ability[..]\nhttps://theflouri
 shingcenter.com/events/culture-connection-and-change-leading-with-purpose-i
 n-times-of-transformation-fpf-with-nene-gomez/
URL:https://theflourishingcenter.com/events/culture-connection-and-change-leading-with-purpose-in-times-of-transformation-fpf-with-nene-gomez/
END:VEVENT
END:VCALENDAR